BEGIN:VCALENDAR
VERSION:2.0
PRODID:-//Squarespace Inc/Squarespace 6//v6//EN
BEGIN:VEVENT
UID:59c65160268b96c839de5c65@squarespace.com
DTSTAMP:20170923T122925Z
DTSTART:20171118T040000Z
DTEND:20171118T090000Z
SUMMARY:URBAN WINE WALK 
END:VEVENT
END:VCALENDAR
