BEGIN:VCALENDAR
VERSION:2.0
PRODID:-//Squarespace Inc/Squarespace 6//v6//EN
BEGIN:VEVENT
UID:5ff2c7380493bd2827652f10@squarespace.com
DTSTAMP:20210104T124223Z
DTSTART:20210110T023000Z
DTEND:20210110T100000Z
SUMMARY:Sunday Sesh w Norteña @nortena_
GEO:-33.836088;115.130941
LOCATION:LS Merchants\, 163 Treeton Road North\, Cowaramup\, WA\, 6284\, Au
 stralia
END:VEVENT
END:VCALENDAR
