BEGIN:VCALENDAR
VERSION:2.0
PRODID:-//Squarespace Inc/Squarespace 6//v6//EN
BEGIN:VEVENT
UID:5ff2c7029d513670e3a2aa38@squarespace.com
DTSTAMP:20210104T135134Z
DTSTART:20210124T023000Z
DTEND:20210124T100000Z
SUMMARY:Sunday Sesh w Normal Van 
GEO:-33.836088;115.130941
LOCATION:LS Merchants\, 163 Treeton Road North\, Cowaramup\, WA\, 6284\, Au
 stralia
END:VEVENT
END:VCALENDAR
