BEGIN:VCALENDAR
VERSION:2.0
PRODID:-//Squarespace Inc/Squarespace 6//v6//EN
BEGIN:VEVENT
UID:5fc0eb569b1ed03538fcec7a@squarespace.com
DTSTAMP:20201217T133139Z
DTSTART:20201218T023000Z
DTEND:20201220T100000Z
SUMMARY:Cellar Door Grand Opening 
GEO:-33.836088;115.130941
LOCATION:LS Merchants\, 163 Treeton Road North\, Cowaramup\, WA\, 6284\, Au
 stralia
END:VEVENT
END:VCALENDAR
