BEGIN:VCALENDAR
VERSION:2.0
PRODID:-//Squarespace Inc/Squarespace 6//v6//EN
BEGIN:VEVENT
UID:5f7fffd341aae816c26932e5@squarespace.com
DTSTAMP:20201009T062025Z
DTSTART:20201031T100000Z
DTEND:20201031T120000Z
SUMMARY:Hallowine - King Somm 
END:VEVENT
END:VCALENDAR
