BEGIN:VCALENDAR
VERSION:2.0
PRODID:-//Squarespace Inc/Squarespace 6//v6//EN
BEGIN:VEVENT
UID:5f7fdc6ae790d477f14549b6@squarespace.com
DTSTAMP:20201009T061411Z
DTSTART:20201015T103000Z
DTEND:20201015T113000Z
SUMMARY:Vintage Drops - King Somm 
END:VEVENT
END:VCALENDAR
