BEGIN:VCALENDAR
VERSION:2.0
PRODID:-//Squarespace Inc/Squarespace 6//v6//EN
BEGIN:VEVENT
UID:5d0c630696c8b70001dd7da3@squarespace.com
DTSTAMP:20190621T055753Z
DTSTART:20190720T023000Z
DTEND:20190720T070000Z
SUMMARY:Hip Hop Yoga Brunch 
GEO:-33.650622;115.345323
LOCATION:Darleens (Rocky Ridge's bar)\, 43 Prince Street\, Busselton\, WA\, 
 6280\, Australia
END:VEVENT
END:VCALENDAR
