BEGIN:VCALENDAR
VERSION:2.0
PRODID:-//Squarespace Inc/Squarespace 6//v6//EN
BEGIN:VEVENT
UID:5d0c5f41d9247100010a0392@squarespace.com
DTSTAMP:20190708T061055Z
DTSTART:20190712T080000Z
DTEND:20190714T110000Z
SUMMARY:Official 2019 Natorious Pet Nat release parties
END:VEVENT
END:VCALENDAR
