BEGIN:VCALENDAR
VERSION:2.0
PRODID:-//Squarespace Inc/Squarespace 6//v6//EN
BEGIN:VEVENT
UID:5cd03e916d89ab0001ba8837@squarespace.com
DTSTAMP:20190617T060526Z
DTSTART:20190620T100000Z
DTEND:20190620T130000Z
SUMMARY:Vintage Drops #2  - SOLD OUT 
END:VEVENT
END:VCALENDAR
