BEGIN:VCALENDAR
VERSION:2.0
PRODID:-//Squarespace Inc/Squarespace 6//v6//EN
BEGIN:VEVENT
UID:5cc171b1eef1a13f5229f7b4@squarespace.com
DTSTAMP:20190425T084212Z
DTSTART:20190504T040000Z
DTEND:20190504T083000Z
SUMMARY:Urban Wine Walk - Fremantle 
END:VEVENT
END:VCALENDAR
