BEGIN:VCALENDAR
VERSION:2.0
PRODID:-//Squarespace Inc/Squarespace 6//v6//EN
BEGIN:VEVENT
UID:5cd1561715fcc0b3106e0b7a@squarespace.com
DTSTAMP:20190517T031718Z
DTSTART:20190521T090000Z
DTEND:20190521T120000Z
SUMMARY:MUST WINEBAR - Love your local 
GEO:-31.93801;115.86957
LOCATION:Must winebar\, 519 Beaufort Street\, Perth\, WA\, 6000\, Australia
END:VEVENT
END:VCALENDAR
