BEGIN:VCALENDAR
VERSION:2.0
PRODID:-//Squarespace Inc/Squarespace 6//v6//EN
BEGIN:VEVENT
UID:5d9807acce76032d73caf330@squarespace.com
DTSTAMP:20191005T030541Z
DTSTART:20191102T050000Z
DTEND:20191102T090000Z
SUMMARY:Mane Liquor Carpark Party NOV 2
END:VEVENT
END:VCALENDAR
