BEGIN:VCALENDAR
VERSION:2.0
PRODID:-//Squarespace Inc/Squarespace 6//v6//EN
BEGIN:VEVENT
UID:5d98027497e5945a3af23e4b@squarespace.com
DTSTAMP:20191005T025817Z
DTSTART:20191020T053000Z
DTEND:20191020T090000Z
SUMMARY:Jay's long lunch at Habitué  - Jay and Dylans Excellent Adventure 
END:VEVENT
END:VCALENDAR
