BEGIN:VCALENDAR
VERSION:2.0
PRODID:-//Squarespace Inc/Squarespace 6//v6//EN
BEGIN:VEVENT
UID:5d9af93664d4b90d4661ec4b@squarespace.com
DTSTAMP:20191008T073526Z
DTSTART:20191031T100000Z
DTEND:20191031T150000Z
SUMMARY:Hallowiiiine at King Somm 
END:VEVENT
END:VCALENDAR
