BEGIN:VCALENDAR
VERSION:2.0
PRODID:-//Squarespace Inc/Squarespace 6//v6//EN
BEGIN:VEVENT
UID:5b62a7091ae6cf5b12577061@squarespace.com
DTSTAMP:20180802T064112Z
DTSTART:20180810T080000Z
DTEND:20180810T110000Z
SUMMARY:INSTORE TASTING @ Old Bridge Cellars in Nth Freo
END:VEVENT
END:VCALENDAR
