BEGIN:VCALENDAR
VERSION:2.0
PRODID:-//Squarespace Inc/Squarespace 6//v6//EN
BEGIN:VEVENT
UID:5af8de1c562fa732be39f1f2@squarespace.com
DTSTAMP:20180514T005909Z
DTSTART:20180628T110000Z
DTEND:20180628T150000Z
SUMMARY:LS Cellar door party @ Petition.
GEO:-31.955615;115.860056
LOCATION:Petition wine bar\, aust
END:VEVENT
END:VCALENDAR
