BEGIN:VCALENDAR
VERSION:2.0
PRODID:-//Squarespace Inc/Squarespace 6//v6//EN
BEGIN:VEVENT
UID:5aebbd6b88251b1f839a85a0@squarespace.com
DTSTAMP:20180504T020133Z
DTSTART:20180529T100000Z
DTEND:20180529T150000Z
SUMMARY:Wine Dinner at Morries Margaret River 
END:VEVENT
END:VCALENDAR
