BEGIN:VCALENDAR
VERSION:2.0
PRODID:-//Squarespace Inc/Squarespace 6//v6//EN
BEGIN:VEVENT
UID:5a5d9214f9619a917e29703a@squarespace.com
DTSTAMP:20200123T033854Z
DTSTART:20180203T040000Z
DTEND:20180203T090000Z
SUMMARY:Urban Wine Walk - Perth
END:VEVENT
END:VCALENDAR
