BEGIN:VCALENDAR
VERSION:2.0
PRODID:-//Squarespace Inc/Squarespace 6//v6//EN
BEGIN:VEVENT
UID:5bb1e041e5e5f08a8c7fdd9c@squarespace.com
DTSTAMP:20181001T092250Z
DTSTART:20181117T090000Z
DTEND:20181118T100000Z
SUMMARY:Gourmet Escape 2018 - Gourmet Village 
END:VEVENT
END:VCALENDAR
