BEGIN:VCALENDAR
VERSION:2.0
PRODID:-//Squarespace Inc/Squarespace 6//v6//EN
BEGIN:VEVENT
UID:5bb1b662f4e1fcbd8b2dc775@squarespace.com
DTSTAMP:20181001T055826Z
DTSTART:20181007T070000Z
DTEND:20181007T120000Z
SUMMARY:TASTE INVADERS - Bowls Beats and Brews
END:VEVENT
END:VCALENDAR
