BEGIN:VCALENDAR
VERSION:2.0
PRODID:-//Squarespace Inc/Squarespace 6//v6//EN
BEGIN:VEVENT
UID:5bb1b3c253450ab493eae97f@squarespace.com
DTSTAMP:20181001T060127Z
DTSTART:20181005T080000Z
DTEND:20181005T110000Z
SUMMARY:TASTE INVADERS - Spring Release Party @ The Standard 
END:VEVENT
END:VCALENDAR
