BEGIN:VCALENDAR
VERSION:2.0
PRODID:-//Squarespace Inc/Squarespace 6//v6//EN
BEGIN:VEVENT
UID:5a5d910071c10bc094375bda@squarespace.com
DTSTAMP:20180116T054751Z
DTSTART:20180127T030000Z
DTEND:20180127T070000Z
SUMMARY:King Road Brewing Co tasting day
END:VEVENT
END:VCALENDAR
