BEGIN:VCALENDAR
VERSION:2.0
PRODID:-//Squarespace Inc/Squarespace 6//v6//EN
BEGIN:VEVENT
UID:5a5d99850d9297fcaa49c8c0@squarespace.com
DTSTAMP:20180116T062758Z
DTSTART:20180121T090000Z
DTEND:20180121T110000Z
SUMMARY:SUNDOWN ADELAIDE by The Fruitful Pursuit 
END:VEVENT
END:VCALENDAR
