BEGIN:VCALENDAR
VERSION:2.0
PRODID:-//Squarespace Inc/Squarespace 6//v6//EN
BEGIN:VEVENT
UID:59ddf7f76f4ca380969d842b@squarespace.com
DTSTAMP:20171011T123521Z
DTSTART:20171013T083000Z
DTEND:20171013T143000Z
SUMMARY:LS MERCHANTS RELAUNCH UNDERGROUND AT TOASTFACE GRILLAH
END:VEVENT
END:VCALENDAR
