BEGIN:VCALENDAR
VERSION:2.0
PRODID:-//Squarespace Inc/Squarespace 6//v6//EN
BEGIN:VEVENT
UID:579876a520099ea1919a2be2@squarespace.com
DTSTAMP:20160728T122746Z
DTSTART:20160818T103000Z
DTEND:20160818T153000Z
SUMMARY:Heritage Bar and Bistro Dinner
GEO:-31.950527;115.860457
LOCATION:Heritage Bar and Bistro\, Perth\, Australia
END:VEVENT
END:VCALENDAR
