BEGIN:VCALENDAR
VERSION:2.0
PRODID:-//Squarespace Inc/Squarespace 6//v6//EN
BEGIN:VEVENT
UID:55e5620be4b0f04a3a26355a@squarespace.com
DTSTAMP:20151016T142617Z
DTSTART:20151202T220000Z
DTEND:20151203T170000Z
SUMMARY:Les Sauvage Battle royale @ The Common
END:VEVENT
END:VCALENDAR
